BEGIN:VCALENDAR
VERSION:2.0
PRODID:-//EuroClio - Inspiring History and Citizenship Educators - ECPv6.15.20//NONSGML v1.0//EN
CALSCALE:GREGORIAN
METHOD:PUBLISH
X-WR-CALNAME:EuroClio - Inspiring History and Citizenship Educators
X-ORIGINAL-URL:https://euroclio.eu
X-WR-CALDESC:Events for EuroClio - Inspiring History and Citizenship Educators
REFRESH-INTERVAL;VALUE=DURATION:PT1H
X-Robots-Tag:noindex
X-PUBLISHED-TTL:PT1H
BEGIN:VTIMEZONE
TZID:Europe/Amsterdam
BEGIN:DAYLIGHT
TZOFFSETFROM:+0100
TZOFFSETTO:+0200
TZNAME:CEST
DTSTART:20230326T010000
END:DAYLIGHT
BEGIN:STANDARD
TZOFFSETFROM:+0200
TZOFFSETTO:+0100
TZNAME:CET
DTSTART:20231029T010000
END:STANDARD
BEGIN:DAYLIGHT
TZOFFSETFROM:+0100
TZOFFSETTO:+0200
TZNAME:CEST
DTSTART:20240331T010000
END:DAYLIGHT
BEGIN:STANDARD
TZOFFSETFROM:+0200
TZOFFSETTO:+0100
TZNAME:CET
DTSTART:20241027T010000
END:STANDARD
BEGIN:DAYLIGHT
TZOFFSETFROM:+0100
TZOFFSETTO:+0200
TZNAME:CEST
DTSTART:20250330T010000
END:DAYLIGHT
BEGIN:STANDARD
TZOFFSETFROM:+0200
TZOFFSETTO:+0100
TZNAME:CET
DTSTART:20251026T010000
END:STANDARD
BEGIN:DAYLIGHT
TZOFFSETFROM:+0100
TZOFFSETTO:+0200
TZNAME:CEST
DTSTART:20260329T010000
END:DAYLIGHT
BEGIN:STANDARD
TZOFFSETFROM:+0200
TZOFFSETTO:+0100
TZNAME:CET
DTSTART:20261025T010000
END:STANDARD
END:VTIMEZONE
BEGIN:VEVENT
DTSTART;TZID=Europe/Amsterdam:20250116T170000
DTEND;TZID=Europe/Amsterdam:20250116T183000
DTSTAMP:20260421T104131
CREATED:20241217T103905Z
LAST-MODIFIED:20241217T103905Z
UID:49221-1737046800-1737052200@euroclio.eu
SUMMARY:Do you know what your grandparents think of young people?
DESCRIPTION:Register\nThis webinar is part of the Changing Democracies Webinar Series. Please see a full overview of all webinars in this series here. \nDescription \nDuring the webinar\, we will present a learning activity that has been developed around the question “Do you know what your grandparents think of young people?” that you can do with your students. You will have the opportunity to work on it and provide some feedback. \nThis webinar series is part of the Changing Democracies project in partnership with the Association for History Education in Greece\, Autres Directions\, Borderland Foundation\, Evens Foundation\, Flemish Peace Institute\, In Medias Res\, Faculty of Arts at Charles University\, Research Institute in Art\, Design and Society at the University of Porto\, Mediawise Society\, Museum of Slavonia\, Open Lithuania Foundation\, and School for a Culture of Peace at the Autonomous University of Barcelona. You can learn more about the project by visiting its website here: https://www.changingdemocracies.eu/.
URL:https://euroclio.eu/event/do-you-know-what-your-grandparents-think-of-young-people/
LOCATION:Online
CATEGORIES:EUROCLIO,Project Activities,Webinars
ATTACH;FMTTYPE=image/jpeg:https://euroclio.eu/wp-content/uploads/CD-social-media-templates-banner.jpg
END:VEVENT
BEGIN:VEVENT
DTSTART;TZID=Europe/Amsterdam:20241219T170000
DTEND;TZID=Europe/Amsterdam:20241219T183000
DTSTAMP:20260421T104131
CREATED:20241217T101716Z
LAST-MODIFIED:20241217T101923Z
UID:49210-1734627600-1734633000@euroclio.eu
SUMMARY:Do you dare to challenge your teachers?
DESCRIPTION:Register\nThis webinar is part of the Changing Democracies Webinar Series. Please see a full overview of all webinars in this series here. \nDescription \nDuring the webinar\, we will present a learning activity that has been developed around the question “Do you dare to challenge your teachers?” that you can do with your students. You will have the opportunity to work on it and provide some feedback. \nThis webinar series is part of the Changing Democracies project in partnership with the Association for History Education in Greece\, Autres Directions\, Borderland Foundation\, Evens Foundation\, Flemish Peace Institute\, In Medias Res\, Faculty of Arts at Charles University\, Research Institute in Art\, Design and Society at the University of Porto\, Mediawise Society\, Museum of Slavonia\, Open Lithuania Foundation\, and School for a Culture of Peace at the Autonomous University of Barcelona. You can learn more about the project by visiting its website here: https://www.changingdemocracies.eu/.
URL:https://euroclio.eu/event/do-you-dare-to-challenge-your-teachers/
LOCATION:Online
CATEGORIES:EUROCLIO,Featured - Event page,Project Activities,Webinars
ATTACH;FMTTYPE=image/jpeg:https://euroclio.eu/wp-content/uploads/CD-social-media-templates-banner.jpg
END:VEVENT
BEGIN:VEVENT
DTSTART;TZID=Europe/Amsterdam:20241216T160000
DTEND;TZID=Europe/Amsterdam:20241216T173000
DTSTAMP:20260421T104131
CREATED:20241205T155902Z
LAST-MODIFIED:20241206T100645Z
UID:48757-1734364800-1734370200@euroclio.eu
SUMMARY:Testing Lesson Plans: a Case Study in Place-Based Learning
DESCRIPTION:In this last webinar of the Monument(al) Challenges series\, we will focus on the practical application of lesson plans developed for teaching contested historical legacies through monuments. \nThis session will feature Ute Ackermann Boeros and Lidija Županić Šuica\, who will share their experiences piloting lesson plans and offer valuable insights into how they were received by students. They will reflect on the successes and challenges encountered during the implementation\, and provide feedback on the methodologies used. Attendees will gain a deeper understanding of the real-world impact of these educational resources\, and learn how to adapt these strategies for their own teaching contexts. \nFor an overview of the Monument(al) Challenges webinar series\, click here. \nREGISTER
URL:https://euroclio.eu/event/testing-lesson-plans-a-case-study-in-place-based-learning/
LOCATION:Online
CATEGORIES:EUROCLIO,Featured - Event page,Webinars
ATTACH;FMTTYPE=image/jpeg:https://euroclio.eu/wp-content/uploads/5-2-scaled.jpg
END:VEVENT
BEGIN:VEVENT
DTSTART;TZID=Europe/Amsterdam:20241203T163000
DTEND;TZID=Europe/Amsterdam:20241203T173000
DTSTAMP:20260421T104131
CREATED:20241004T142100Z
LAST-MODIFIED:20241202T144905Z
UID:48599-1733243400-1733247000@euroclio.eu
SUMMARY:Watching Videos Like a Historian: Creating and Presenting
DESCRIPTION:Creating and Presenting is the third and last webinar of a series consisting of three different episodes. In order to see a full overview of all three webinars\, please click here. This webinar series is part of the Watching Videos Like a Historian project\, funded by the European Union. \nThe whole series focus on providing teachers with hands-on activities to create engaging lessons for their classrooms. Each episode will highlight a different domain of the Media Literacy Competence Framework\, which outlines the key steps for history education to develop media literacy skills in students. The Framework is part of the Watching Videos Like a Historian Toolkit\, which will be shared with participants during the webinar. More details will be announced soon. \nThis last episode aims to: \n\nProvide tips for micro-activities for media creation during class and how they can be connected to teaching critical thinking.\nProvide tips for teachers on creating and assembling their own sources.\n\nTo register\, please fill in the form below: \nLoading…
URL:https://euroclio.eu/event/creating-and-presenting/
LOCATION:Online
CATEGORIES:Featured - Event page,Online Seminars,Webinars
ATTACH;FMTTYPE=image/png:https://euroclio.eu/wp-content/uploads/14.png
END:VEVENT
BEGIN:VEVENT
DTSTART;TZID=Europe/Amsterdam:20241127T160000
DTEND;TZID=Europe/Amsterdam:20241127T173000
DTSTAMP:20260421T104131
CREATED:20241112T151324Z
LAST-MODIFIED:20241114T114815Z
UID:48754-1732723200-1732728600@euroclio.eu
SUMMARY:Contested histories and monuments in teacher training
DESCRIPTION:The third webinar of the Monument(al) Challenges series will address how to approach monuments and contested histories in teacher training. For an overview of the Monument(al) Challenges webinar series\, click here. \nThis session\, we are thrilled to have Benny Christensen and Christoph Sproul presenting Confronting Memories’ valuable work. They will introduce key learning activities from the Pedagogical Guide – Teaching history through the use of World War II memorials\, sharing practical insights on incorporating these resources into teacher training. \nREGISTER
URL:https://euroclio.eu/event/contested-histories-and-monuments-in-teacher-training/
LOCATION:Online
CATEGORIES:Featured - Event page,Webinars
ATTACH;FMTTYPE=image/jpeg:https://euroclio.eu/wp-content/uploads/MONCHAL-webinar-series-7.jpg
END:VEVENT
BEGIN:VEVENT
DTSTART;TZID=Europe/Amsterdam:20241106T163000
DTEND;TZID=Europe/Amsterdam:20241106T173000
DTSTAMP:20260421T104131
CREATED:20241004T142043Z
LAST-MODIFIED:20241029T101410Z
UID:48590-1730910600-1730914200@euroclio.eu
SUMMARY:Evaluating and Judging
DESCRIPTION:Evaluating and Judging is the second webinar of a series consisting of three different episodes. In order to see a full overview of all three webinars\, please click here. This webinar series is part of the Watching Videos Like a Historian project\, funded by the European Union. \nThe whole series focus on providing teachers with hands-on activities to create engaging lessons for their classrooms. Each episode will highlight a different domain of the Media Literacy Competence Framework\, which outlines the key steps for history education to develop media literacy skills in students. The Framework is part of the Watching Videos Like a Historian Toolkit\, which will be shared with participants during the webinar. More details will be announced soon. \nThis second episode aims to: \n\nShow how historical media can be used in civics education.\nProvide tips on how to adapt the Toolkit’s offer to the local context.\n\nYou can register by filling in the form below: \nLoading…
URL:https://euroclio.eu/event/evaluating-and-judging/
LOCATION:Online
CATEGORIES:Featured - Event page,Online Seminars,Webinars
ATTACH;FMTTYPE=image/png:https://euroclio.eu/wp-content/uploads/13.png
END:VEVENT
BEGIN:VEVENT
DTSTART;TZID=Europe/Amsterdam:20241104T160000
DTEND;TZID=Europe/Amsterdam:20241104T173000
DTSTAMP:20260421T104131
CREATED:20241029T135735Z
LAST-MODIFIED:20241031T080442Z
UID:48751-1730736000-1730741400@euroclio.eu
SUMMARY:Charlottesville and Confederate Monuments in the US
DESCRIPTION:The second webinar of the Monument(al) Challenges series will introduce a range of teaching resources for addressing contested historical legacies in the classroom. \nFor this session\, we are pleased to welcome Maureen Stephens (Choices Program at Brown University\, Providence\, USA) who will talk about the contested legacy of the Confederacy in the US\, and in particular on the lesson plan that the Choices Program developed on the Robert E. Lee statue in Charlottesville\, Virginia\, in the wake of the white supremacist ‘Unite the Right’ rally in 2017. \nFor more on their work\, you can explore the Choices Program. \nFor an overview of the Monument(al) Challenges webinar series\, click here. \nREGISTER
URL:https://euroclio.eu/event/charlottesville-and-confederate-monuments-in-the-us/
LOCATION:Online
CATEGORIES:Featured - Event page,Webinars
ATTACH;FMTTYPE=image/jpeg:https://euroclio.eu/wp-content/uploads/MONCHAL-webinar-series-6.jpg
END:VEVENT
BEGIN:VEVENT
DTSTART;TZID=Europe/Amsterdam:20241023T163000
DTEND;TZID=Europe/Amsterdam:20241023T173000
DTSTAMP:20260421T104131
CREATED:20241004T142030Z
LAST-MODIFIED:20241018T093006Z
UID:48522-1729701000-1729704600@euroclio.eu
SUMMARY:Searching and Finding
DESCRIPTION:Searching and Finding is the first webinar in an upcoming series of three different episodes. In order to see a full overview of all webinars in this series\, please click here. This webinar series is part of the Watching Videos Like a Historian project\, funded by the European Union. \nThe whole series focus on providing teachers with hands-on activities to create engaging lessons for their classrooms. Each episode will highlight a different domain of the Media Literacy Competence Framework\, which outlines the key steps for history education to develop media literacy skills in students. The Framework is part of the Watching Videos Like a Historian Toolkit\, which will be shared with participants during the webinar. More details will be announced soon. \nThis first episode aims to: \n\nProvide easy-to-use activities and showcase how the Toolkit’s offer can be modular.\nShow how teachers can search for historical media.\n\nYou can register by filling in the form below: \nLoading…
URL:https://euroclio.eu/event/searching-and-finding/
LOCATION:Online
CATEGORIES:Featured - Event page,Online Seminars,Webinars
ATTACH;FMTTYPE=image/png:https://euroclio.eu/wp-content/uploads/12.png
END:VEVENT
BEGIN:VEVENT
DTSTART;TZID=Europe/Amsterdam:20241021T160000
DTEND;TZID=Europe/Amsterdam:20241021T173000
DTSTAMP:20260421T104131
CREATED:20241010T130513Z
LAST-MODIFIED:20241010T131145Z
UID:48742-1729526400-1729531800@euroclio.eu
SUMMARY:Teaching contested histories and monuments
DESCRIPTION:The first webinar of the Monument(al) Challenges series will focus on secondary education teachers’ experiences and approaches to teaching contested historical legacies. In order to see an overview of the Monument(al) Challenges webinar series click here. \nFor this purpose\, three educators from Denmark\, France\, and Italy will share their experiences\, teaching case studies on monuments like the Mary Wollstonecraft sculpture in London\, the Mind the Map project and Decolonize your City initiative\, as well as discussing complex topics such as the Israel-Palestine situation in their classrooms. \nREGISTER
URL:https://euroclio.eu/event/teaching-contested-histories-and-monuments/
LOCATION:Online
CATEGORIES:Featured - Event page,Webinars
ATTACH;FMTTYPE=image/jpeg:https://euroclio.eu/wp-content/uploads/2-3-scaled.jpg
END:VEVENT
END:VCALENDAR